BEGIN:VCALENDAR
VERSION:2.0
PRODID:-//Spolek Prague Pride - ECPv6.15.20//NONSGML v1.0//EN
CALSCALE:GREGORIAN
METHOD:PUBLISH
X-WR-CALNAME:Spolek Prague Pride
X-ORIGINAL-URL:https://www.praguepride.com
X-WR-CALDESC:Akce na Spolek Prague Pride
REFRESH-INTERVAL;VALUE=DURATION:PT1H
X-Robots-Tag:noindex
X-PUBLISHED-TTL:PT1H
BEGIN:VTIMEZONE
TZID:Europe/Prague
BEGIN:DAYLIGHT
TZOFFSETFROM:+0100
TZOFFSETTO:+0200
TZNAME:CEST
DTSTART:20250330T010000
END:DAYLIGHT
BEGIN:STANDARD
TZOFFSETFROM:+0200
TZOFFSETTO:+0100
TZNAME:CET
DTSTART:20251026T010000
END:STANDARD
BEGIN:DAYLIGHT
TZOFFSETFROM:+0100
TZOFFSETTO:+0200
TZNAME:CEST
DTSTART:20260329T010000
END:DAYLIGHT
BEGIN:STANDARD
TZOFFSETFROM:+0200
TZOFFSETTO:+0100
TZNAME:CET
DTSTART:20261025T010000
END:STANDARD
BEGIN:DAYLIGHT
TZOFFSETFROM:+0100
TZOFFSETTO:+0200
TZNAME:CEST
DTSTART:20270328T010000
END:DAYLIGHT
BEGIN:STANDARD
TZOFFSETFROM:+0200
TZOFFSETTO:+0100
TZNAME:CET
DTSTART:20271031T010000
END:STANDARD
END:VTIMEZONE
BEGIN:VEVENT
DTSTART;TZID=Europe/Prague:20260517T170000
DTEND;TZID=Europe/Prague:20260517T190000
DTSTAMP:20260425T192844
CREATED:20250413T112922Z
LAST-MODIFIED:20260126T151303Z
UID:10002856-1779037200-1779044400@www.praguepride.com
SUMMARY:Queer Christians Meeting (EN)
DESCRIPTION:Are you queer and Christian or used to be but are now searching again? We would like to meet and connect at the LGBT+ Community Center. Join us to find community and reconnect to your spirituality. At meetings we will have open discussions about our past experiences and view on God. Being queer and Christian may be difficult\, but this meetup aims at providing a positive space to find ways to reconcile both identities.  \n\n\n\nAll identities and denominations are welcome. We are here for people who have experienced Christianity but also for those who are interetsted in Christianity. We offer tea\, biscuits and a safe space where everyone is welcome. For more information join our Facebook group.
URL:https://www.praguepride.com/kc-program/queer-christians-meeting-en-2/2026-05-17/
LOCATION:Komunitní centrum\, Železná 492/18\, Praha 1\, 110 00\, Czech Republic
ATTACH;FMTTYPE=image/jpeg:https://www.praguepride.com/wp-content/uploads/2025/02/Queer-Christians-meeting-scaled.jpeg
END:VEVENT
END:VCALENDAR